BEGIN:VCALENDAR
VERSION:2.0
PRODID:-//80qoa.sites.ecatholic.com//eCatholic//EN
X-WR-TIMEZONE:LocalTZ
BEGIN:VTIMEZONE
TZID:LocalTZ
X-LIC-LOCATION:LocalTZ
BEGIN:DAYLIGHT
TZOFFSETFROM:-0500
TZOFFSETTO:-0400
TZNAME:LocalTZ
DTSTART:19700308T020000
RRULE:FREQ=YEARLY;BYMONTH=3;BYDAY=2SU
END:DAYLIGHT
BEGIN:STANDARD
TZOFFSETFROM:-0400
TZOFFSETTO:-0500
TZNAME:LocalTZ
DTSTART:19701101T020000
RRULE:FREQ=YEARLY;BYMONTH=11;BYDAY=1SU
END:STANDARD
END:VTIMEZONE
BEGIN:VEVENT
UID:889623@80qoa.sites.ecatholic.com
DTSTAMP:20260422T124546Z
DTSTART:20260507T190000
DTEND:20260507T200000
RRULE:FREQ=MONTHLY;BYDAY=TH;BYSETPOS=1
EXDATE:20181101T190000,20190103T190000,20190207T190000,20190502T190000,201
 90606T190000,20190704T190000,20190801T190000,20190905T190000,20191205T1900
 00,20200102T190000,20200206T190000,20200402T190000,20200507T190000,2020070
 2T190000,20200806T190000,20210401T190000
SUMMARY:Women's Society Meeting
END:VEVENT
BEGIN:VEVENT
UID:976783@80qoa.sites.ecatholic.com
DTSTAMP:20260422T124546Z
DTSTART:20260426T130000
DTEND:20260426T140000
RRULE:FREQ=MONTHLY;BYDAY=SU;BYSETPOS=-1
EXDATE:20200126T130000,20200329T130000,20200628T130000,20200726T130000,202
 00830T130000,20201129T130000,20210328T130000,20210425T130000,20210530T1300
 00,20210627T130000,20211226T130000
SUMMARY:Prayer Shawl Ministry
END:VEVENT
BEGIN:VEVENT
UID:1211450@80qoa.sites.ecatholic.com
DTSTAMP:20260422T124546Z
DTSTART:20260428T180000
DTEND:20260428T190000
RRULE:FREQ=WEEKLY;BYDAY=TU
EXDATE:20191224T180000,20200204T180000,20200317T180000,20200324T180000,202
 00331T180000,20200407T180000,20200414T180000,20200421T180000,20200505T1800
 00,20200512T180000,20200519T180000,20200526T180000,20200707T180000,2020071
 4T180000,20200721T180000,20200728T180000,20200804T180000,20200811T180000,2
 0200818T180000,20200825T180000,20200901T180000
SUMMARY:Men of St. Joseph Prayer Group
END:VEVENT
END:VCALENDAR
